BEGIN:VCALENDAR
VERSION:2.0
PRODID:-//イルチブレインヨガ六甲道スタジオ - ECPv6.15.20//NONSGML v1.0//EN
CALSCALE:GREGORIAN
METHOD:PUBLISH
X-ORIGINAL-URL:https://ilchibrainyoga-rokko.com
X-WR-CALDESC:イルチブレインヨガ六甲道スタジオ のイベント
REFRESH-INTERVAL;VALUE=DURATION:PT1H
X-Robots-Tag:noindex
X-PUBLISHED-TTL:PT1H
BEGIN:VTIMEZONE
TZID:Asia/Tokyo
BEGIN:STANDARD
TZOFFSETFROM:+0900
TZOFFSETTO:+0900
TZNAME:JST
DTSTART:20240101T000000
END:STANDARD
END:VTIMEZONE
BEGIN:VEVENT
DTSTART;TZID=Asia/Tokyo:20250402T143000
DTEND;TZID=Asia/Tokyo:20250402T160000
DTSTAMP:20260421T040434
CREATED:20250401T022421Z
LAST-MODIFIED:20250401T022421Z
UID:1746-1743604200-1743609600@ilchibrainyoga-rokko.com
SUMMARY:【六甲道】腸と脳のヨガ体験
DESCRIPTION:腸は体と心の状態を映す鏡で脳と密接なつながりを持っています。\n腸の重要性について、ここ数年メディアなどでもよく取り上げられています。第二の脳とも言われていますね。\n脳腸活性トレーニングで腸が強く柔軟になると、心も思考も強く柔軟になります。体と心の変化を体感してみてください♪\n体がかたくても大丈夫です♪老若男女OK♪\n首肩こり、腰痛、関節痛、冷え性、便秘、下痢、ダイエット、運動不足解消その他色々お越しくださいませ!\n又、ご希望に応じて、必要な運動メニューや\n生活習慣など、心身を整えるための全てを\nカスタマイズもできます🌟お気軽にご参加くださいませ😊 \n開催日：\n4月2日（水）16日（水）\n時間：14:30～16:00\n4月22日（火）25日（金）\n19:00〜20:30 \n体験会日程がご都合が合わない方は、できるだけ都合を合わすようにさせていただきますので、\nご希望日をこちらに教えてください^^ \n会場名：イルチブレインヨガ六甲道スタジオ\n神戸市灘区森後町２丁目１−９ グランディアみなと神戸六甲館 6階 \n参加費：1000円\nトレーナー：薪浦英実\n持ち物：簡単に動かせる服装\nその他：体験会時間は カウンセリングなども含みます。\n問合せ：☎0788556261 \n\nLINEからのお申し込みはこちら⇒https://lin.ee/n9EJ7SR \n\n\n  \n\n\n\n\n\n \n体験ご希望日時\n		(必須)　※ご注意：月曜日は定休日です\n		\n \n—以下から選択してください—10111213141516171819時 —以下から選択してください—001020304050分 ～ のクラス\n \nお名前\n		 (必須)\n		\n \n\n \nメールアドレス\n		 (必須)\n		\n \n\n \nお電話番号（携帯可）\n		 (必須)\n		\n \n\n \nこちらのスタジオを何でお知りになりましたか？\n		 (必須)\n		\n \nチラシ看板書籍雑誌紹介Yahoo検索Google検索口コミその他Webサイト\n \nご関心があること、習得したいこと（複数可）\n \n自然治癒力アップ集中力アップダイエット体質改善ストレス緩和丹田強化呼吸法瞑想法リラックス運動不足解消姿勢がよくなりたいその他（備考欄にご記入ください）\n \n備考欄\n \n\n \n\n\n \n\n Δ \n\n\n\n株式会社DAHN WORLD JAPAN　ダンワールドジャパン
URL:https://ilchibrainyoga-rokko.com/event/rokko-10/
LOCATION:イルチブレインヨガ六甲道スタジオ\, 兵庫県神戸市灘区森後町２丁目１−９　グランディアみなと神戸六甲館 6階\, 6570028\, 日本
ATTACH;FMTTYPE=image/jpeg:https://ilchibrainyoga-rokko.com/wp-content/uploads/2025/02/瞑想5人　新モデル.jpg
END:VEVENT
BEGIN:VEVENT
DTSTART;TZID=Asia/Tokyo:20250416T143000
DTEND;TZID=Asia/Tokyo:20250416T160000
DTSTAMP:20260421T040434
CREATED:20250401T023725Z
LAST-MODIFIED:20250401T023725Z
UID:1748-1744813800-1744819200@ilchibrainyoga-rokko.com
SUMMARY:【六甲道】腸と脳のヨガ体験
DESCRIPTION:腸は体と心の状態を映す鏡で脳と密接なつながりを持っています。\n腸の重要性について、ここ数年メディアなどでもよく取り上げられています。第二の脳とも言われていますね。\n脳腸活性トレーニングで腸が強く柔軟になると、心も思考も強く柔軟になります。体と心の変化を体感してみてください♪\n体がかたくても大丈夫です♪老若男女OK♪\n首肩こり、腰痛、関節痛、冷え性、便秘、下痢、ダイエット、運動不足解消その他色々お越しくださいませ!\n又、ご希望に応じて、必要な運動メニューや\n生活習慣など、心身を整えるための全てを\nカスタマイズもできます🌟お気軽にご参加くださいませ😊 \n開催日：\n4月16日（水）\n時間：14:30～16:00\n4月22日（火）25日（金）\n19:00〜20:30 \n体験会日程がご都合が合わない方は、できるだけ都合を合わすようにさせていただきますので、\nご希望日をこちらに教えてください^^ \n会場名：イルチブレインヨガ六甲道スタジオ\n神戸市灘区森後町２丁目１−９ グランディアみなと神戸六甲館 6階 \n参加費：1000円\nトレーナー：薪浦英実\n持ち物：簡単に動かせる服装\nその他：体験会時間は カウンセリングなども含みます。\n問合せ：☎0788556261 \n\nLINEからのお申し込みはこちら⇒https://lin.ee/n9EJ7SR \n\n\n  \n\n\n\n\n\n \n体験ご希望日時\n		(必須)　※ご注意：月曜日は定休日です\n		\n \n—以下から選択してください—10111213141516171819時 —以下から選択してください—001020304050分 ～ のクラス\n \nお名前\n		 (必須)\n		\n \n\n \nメールアドレス\n		 (必須)\n		\n \n\n \nお電話番号（携帯可）\n		 (必須)\n		\n \n\n \nこちらのスタジオを何でお知りになりましたか？\n		 (必須)\n		\n \nチラシ看板書籍雑誌紹介Yahoo検索Google検索口コミその他Webサイト\n \nご関心があること、習得したいこと（複数可）\n \n自然治癒力アップ集中力アップダイエット体質改善ストレス緩和丹田強化呼吸法瞑想法リラックス運動不足解消姿勢がよくなりたいその他（備考欄にご記入ください）\n \n備考欄\n \n\n \n\n\n \n\n Δ \n\n\n\n株式会社DAHN WORLD JAPAN　ダンワールドジャパン
URL:https://ilchibrainyoga-rokko.com/event/rokko-11/
LOCATION:イルチブレインヨガ六甲道スタジオ\, 兵庫県神戸市灘区森後町２丁目１−９　グランディアみなと神戸六甲館 6階\, 6570028\, 日本
ATTACH;FMTTYPE=image/jpeg:https://ilchibrainyoga-rokko.com/wp-content/uploads/2025/02/瞑想5人　新モデル.jpg
END:VEVENT
BEGIN:VEVENT
DTSTART;TZID=Asia/Tokyo:20250422T190000
DTEND;TZID=Asia/Tokyo:20250422T203000
DTSTAMP:20260421T040434
CREATED:20250401T023831Z
LAST-MODIFIED:20250401T023831Z
UID:1750-1745348400-1745353800@ilchibrainyoga-rokko.com
SUMMARY:【六甲道】腸と脳のヨガ体験
DESCRIPTION:腸は体と心の状態を映す鏡で脳と密接なつながりを持っています。\n腸の重要性について、ここ数年メディアなどでもよく取り上げられています。第二の脳とも言われていますね。\n脳腸活性トレーニングで腸が強く柔軟になると、心も思考も強く柔軟になります。体と心の変化を体感してみてください♪\n体がかたくても大丈夫です♪老若男女OK♪\n首肩こり、腰痛、関節痛、冷え性、便秘、下痢、ダイエット、運動不足解消その他色々お越しくださいませ!\n又、ご希望に応じて、必要な運動メニューや\n生活習慣など、心身を整えるための全てを\nカスタマイズもできます🌟お気軽にご参加くださいませ😊 \n開催日：\n4月22日（火）25日（金）\n19:00〜20:30 \n体験会日程がご都合が合わない方は、できるだけ都合を合わすようにさせていただきますので、\nご希望日をこちらに教えてください^^ \n会場名：イルチブレインヨガ六甲道スタジオ\n神戸市灘区森後町２丁目１−９ グランディアみなと神戸六甲館 6階 \n参加費：1000円\nトレーナー：薪浦英実\n持ち物：簡単に動かせる服装\nその他：体験会時間は カウンセリングなども含みます。\n問合せ：☎0788556261 \n\nLINEからのお申し込みはこちら⇒https://lin.ee/n9EJ7SR \n\n\n  \n\n\n\n\n\n \n体験ご希望日時\n		(必須)　※ご注意：月曜日は定休日です\n		\n \n—以下から選択してください—10111213141516171819時 —以下から選択してください—001020304050分 ～ のクラス\n \nお名前\n		 (必須)\n		\n \n\n \nメールアドレス\n		 (必須)\n		\n \n\n \nお電話番号（携帯可）\n		 (必須)\n		\n \n\n \nこちらのスタジオを何でお知りになりましたか？\n		 (必須)\n		\n \nチラシ看板書籍雑誌紹介Yahoo検索Google検索口コミその他Webサイト\n \nご関心があること、習得したいこと（複数可）\n \n自然治癒力アップ集中力アップダイエット体質改善ストレス緩和丹田強化呼吸法瞑想法リラックス運動不足解消姿勢がよくなりたいその他（備考欄にご記入ください）\n \n備考欄\n \n\n \n\n\n \n\n Δ \n\n\n\n株式会社DAHN WORLD JAPAN　ダンワールドジャパン
URL:https://ilchibrainyoga-rokko.com/event/rokko-12/
LOCATION:イルチブレインヨガ六甲道スタジオ\, 兵庫県神戸市灘区森後町２丁目１−９　グランディアみなと神戸六甲館 6階\, 6570028\, 日本
ATTACH;FMTTYPE=image/jpeg:https://ilchibrainyoga-rokko.com/wp-content/uploads/2025/02/瞑想5人　新モデル.jpg
END:VEVENT
BEGIN:VEVENT
DTSTART;TZID=Asia/Tokyo:20250425T190000
DTEND;TZID=Asia/Tokyo:20250425T203000
DTSTAMP:20260421T040434
CREATED:20250401T023915Z
LAST-MODIFIED:20250401T023915Z
UID:1752-1745607600-1745613000@ilchibrainyoga-rokko.com
SUMMARY:【六甲道】腸と脳のヨガ体験
DESCRIPTION:腸は体と心の状態を映す鏡で脳と密接なつながりを持っています。\n腸の重要性について、ここ数年メディアなどでもよく取り上げられています。第二の脳とも言われていますね。\n脳腸活性トレーニングで腸が強く柔軟になると、心も思考も強く柔軟になります。体と心の変化を体感してみてください♪\n体がかたくても大丈夫です♪老若男女OK♪\n首肩こり、腰痛、関節痛、冷え性、便秘、下痢、ダイエット、運動不足解消その他色々お越しくださいませ!\n又、ご希望に応じて、必要な運動メニューや\n生活習慣など、心身を整えるための全てを\nカスタマイズもできます🌟お気軽にご参加くださいませ😊 \n開催日：\n4月25日（金）\n19:00〜20:30 \n体験会日程がご都合が合わない方は、できるだけ都合を合わすようにさせていただきますので、\nご希望日をこちらに教えてください^^ \n会場名：イルチブレインヨガ六甲道スタジオ\n神戸市灘区森後町２丁目１−９ グランディアみなと神戸六甲館 6階 \n参加費：1000円\nトレーナー：薪浦英実\n持ち物：簡単に動かせる服装\nその他：体験会時間は カウンセリングなども含みます。\n問合せ：☎0788556261 \n\nLINEからのお申し込みはこちら⇒https://lin.ee/n9EJ7SR \n\n\n  \n\n\n\n\n\n \n体験ご希望日時\n		(必須)　※ご注意：月曜日は定休日です\n		\n \n—以下から選択してください—10111213141516171819時 —以下から選択してください—001020304050分 ～ のクラス\n \nお名前\n		 (必須)\n		\n \n\n \nメールアドレス\n		 (必須)\n		\n \n\n \nお電話番号（携帯可）\n		 (必須)\n		\n \n\n \nこちらのスタジオを何でお知りになりましたか？\n		 (必須)\n		\n \nチラシ看板書籍雑誌紹介Yahoo検索Google検索口コミその他Webサイト\n \nご関心があること、習得したいこと（複数可）\n \n自然治癒力アップ集中力アップダイエット体質改善ストレス緩和丹田強化呼吸法瞑想法リラックス運動不足解消姿勢がよくなりたいその他（備考欄にご記入ください）\n \n備考欄\n \n\n \n\n\n \n\n Δ \n\n\n\n株式会社DAHN WORLD JAPAN　ダンワールドジャパン
URL:https://ilchibrainyoga-rokko.com/event/rokko-13/
LOCATION:イルチブレインヨガ六甲道スタジオ\, 兵庫県神戸市灘区森後町２丁目１−９　グランディアみなと神戸六甲館 6階\, 6570028\, 日本
ATTACH;FMTTYPE=image/jpeg:https://ilchibrainyoga-rokko.com/wp-content/uploads/2025/02/瞑想5人　新モデル.jpg
END:VEVENT
BEGIN:VEVENT
DTSTART;TZID=Asia/Tokyo:20250501T143000
DTEND;TZID=Asia/Tokyo:20250501T160000
DTSTAMP:20260421T040434
CREATED:20250424T050110Z
LAST-MODIFIED:20250424T050110Z
UID:1775-1746109800-1746115200@ilchibrainyoga-rokko.com
SUMMARY:【六甲道】腸と脳のヨガ体験
DESCRIPTION:腸は体と心の状態を映す鏡で脳と密接なつながりを持っています。\n腸の重要性について、ここ数年メディアなどでもよく取り上げられています。第二の脳とも言われていますね。\n脳腸活性トレーニングで腸が強く柔軟になると、心も思考も強く柔軟になります。体と心の変化を体感してみてください♪\n体がかたくても大丈夫です♪老若男女OK♪\n首肩こり、腰痛、関節痛、冷え性、便秘、下痢、ダイエット、運動不足解消その他色々お越しくださいませ!\n又、ご希望に応じて、必要な運動メニューや\n生活習慣など、心身を整えるための全てを\nカスタマイズもできます🌟お気軽にご参加くださいませ😊 \n開催日：\n5月1日（木）7日（水）\n時間：14:30～16:00\n5月16日（金）20日（火）\n19:00〜20:30 \n体験会日程がご都合が合わない方は、できるだけ都合を合わすようにさせていただきますので、\nご希望日をこちらに教えてください^^ \n会場名：イルチブレインヨガ六甲道スタジオ\n神戸市灘区森後町２丁目１−９ グランディアみなと神戸六甲館 6階 \n参加費：1000円\nトレーナー：薪浦英実\n持ち物：簡単に動かせる服装\n▶体験会時間は カウンセリングなども含みます。\n問合せ：☎0788556261 \n\nLINEからのお申し込みはこちら⇒https://lin.ee/n9EJ7SR \n\n\n  \n\n\n\n\n\n \n体験ご希望日時\n		(必須)　※ご注意：月曜日は定休日です\n		\n \n—以下から選択してください—10111213141516171819時 —以下から選択してください—001020304050分 ～ のクラス\n \nお名前\n		 (必須)\n		\n \n\n \nメールアドレス\n		 (必須)\n		\n \n\n \nお電話番号（携帯可）\n		 (必須)\n		\n \n\n \nこちらのスタジオを何でお知りになりましたか？\n		 (必須)\n		\n \nチラシ看板書籍雑誌紹介Yahoo検索Google検索口コミその他Webサイト\n \nご関心があること、習得したいこと（複数可）\n \n自然治癒力アップ集中力アップダイエット体質改善ストレス緩和丹田強化呼吸法瞑想法リラックス運動不足解消姿勢がよくなりたいその他（備考欄にご記入ください）\n \n備考欄\n \n\n \n\n\n \n\n Δ \n\n\n\n株式会社DAHN WORLD JAPAN　ダンワールドジャパン
URL:https://ilchibrainyoga-rokko.com/event/rokkomichi-56/
LOCATION:イルチブレインヨガ六甲道スタジオ\, 兵庫県神戸市灘区森後町２丁目１−９　グランディアみなと神戸六甲館 6階\, 6570028\, 日本
ATTACH;FMTTYPE=image/jpeg:https://ilchibrainyoga-rokko.com/wp-content/uploads/2025/02/瞑想5人　新モデル.jpg
END:VEVENT
BEGIN:VEVENT
DTSTART;TZID=Asia/Tokyo:20250507T143000
DTEND;TZID=Asia/Tokyo:20250507T160000
DTSTAMP:20260421T040434
CREATED:20250424T050150Z
LAST-MODIFIED:20250424T050150Z
UID:1777-1746628200-1746633600@ilchibrainyoga-rokko.com
SUMMARY:【六甲道】腸と脳のヨガ体験
DESCRIPTION:腸は体と心の状態を映す鏡で脳と密接なつながりを持っています。\n腸の重要性について、ここ数年メディアなどでもよく取り上げられています。第二の脳とも言われていますね。\n脳腸活性トレーニングで腸が強く柔軟になると、心も思考も強く柔軟になります。体と心の変化を体感してみてください♪\n体がかたくても大丈夫です♪老若男女OK♪\n首肩こり、腰痛、関節痛、冷え性、便秘、下痢、ダイエット、運動不足解消その他色々お越しくださいませ!\n又、ご希望に応じて、必要な運動メニューや\n生活習慣など、心身を整えるための全てを\nカスタマイズもできます🌟お気軽にご参加くださいませ😊 \n開催日：\n5月7日（水）\n時間：14:30～16:00\n5月16日（金）20日（火）\n19:00〜20:30 \n体験会日程がご都合が合わない方は、できるだけ都合を合わすようにさせていただきますので、\nご希望日をこちらに教えてください^^ \n会場名：イルチブレインヨガ六甲道スタジオ\n神戸市灘区森後町２丁目１−９ グランディアみなと神戸六甲館 6階 \n参加費：1000円\nトレーナー：薪浦英実\n持ち物：簡単に動かせる服装\n▶体験会時間は カウンセリングなども含みます。\n問合せ：☎0788556261 \n\nLINEからのお申し込みはこちら⇒https://lin.ee/n9EJ7SR \n\n\n  \n\n\n\n\n\n \n体験ご希望日時\n		(必須)　※ご注意：月曜日は定休日です\n		\n \n—以下から選択してください—10111213141516171819時 —以下から選択してください—001020304050分 ～ のクラス\n \nお名前\n		 (必須)\n		\n \n\n \nメールアドレス\n		 (必須)\n		\n \n\n \nお電話番号（携帯可）\n		 (必須)\n		\n \n\n \nこちらのスタジオを何でお知りになりましたか？\n		 (必須)\n		\n \nチラシ看板書籍雑誌紹介Yahoo検索Google検索口コミその他Webサイト\n \nご関心があること、習得したいこと（複数可）\n \n自然治癒力アップ集中力アップダイエット体質改善ストレス緩和丹田強化呼吸法瞑想法リラックス運動不足解消姿勢がよくなりたいその他（備考欄にご記入ください）\n \n備考欄\n \n\n \n\n\n \n\n Δ \n\n\n\n株式会社DAHN WORLD JAPAN　ダンワールドジャパン
URL:https://ilchibrainyoga-rokko.com/event/rokkomichi-57/
LOCATION:イルチブレインヨガ六甲道スタジオ\, 兵庫県神戸市灘区森後町２丁目１−９　グランディアみなと神戸六甲館 6階\, 6570028\, 日本
ATTACH;FMTTYPE=image/jpeg:https://ilchibrainyoga-rokko.com/wp-content/uploads/2025/02/瞑想5人　新モデル.jpg
END:VEVENT
BEGIN:VEVENT
DTSTART;TZID=Asia/Tokyo:20250516T190000
DTEND;TZID=Asia/Tokyo:20250516T203000
DTSTAMP:20260421T040434
CREATED:20250424T050238Z
LAST-MODIFIED:20250424T050238Z
UID:1779-1747422000-1747427400@ilchibrainyoga-rokko.com
SUMMARY:【六甲道】腸と脳のヨガ体験
DESCRIPTION:腸は体と心の状態を映す鏡で脳と密接なつながりを持っています。\n腸の重要性について、ここ数年メディアなどでもよく取り上げられています。第二の脳とも言われていますね。\n脳腸活性トレーニングで腸が強く柔軟になると、心も思考も強く柔軟になります。体と心の変化を体感してみてください♪\n体がかたくても大丈夫です♪老若男女OK♪\n首肩こり、腰痛、関節痛、冷え性、便秘、下痢、ダイエット、運動不足解消その他色々お越しくださいませ!\n又、ご希望に応じて、必要な運動メニューや\n生活習慣など、心身を整えるための全てを\nカスタマイズもできます🌟お気軽にご参加くださいませ😊 \n開催日：\n5月16日（金）20日（火）\n19:00〜20:30 \n体験会日程がご都合が合わない方は、できるだけ都合を合わすようにさせていただきますので、\nご希望日をこちらに教えてください^^ \n会場名：イルチブレインヨガ六甲道スタジオ\n神戸市灘区森後町２丁目１−９ グランディアみなと神戸六甲館 6階 \n参加費：1000円\nトレーナー：薪浦英実\n持ち物：簡単に動かせる服装\n▶体験会時間は カウンセリングなども含みます。\n問合せ：☎0788556261 \n\nLINEからのお申し込みはこちら⇒https://lin.ee/n9EJ7SR \n\n\n  \n\n\n\n\n\n \n体験ご希望日時\n		(必須)　※ご注意：月曜日は定休日です\n		\n \n—以下から選択してください—10111213141516171819時 —以下から選択してください—001020304050分 ～ のクラス\n \nお名前\n		 (必須)\n		\n \n\n \nメールアドレス\n		 (必須)\n		\n \n\n \nお電話番号（携帯可）\n		 (必須)\n		\n \n\n \nこちらのスタジオを何でお知りになりましたか？\n		 (必須)\n		\n \nチラシ看板書籍雑誌紹介Yahoo検索Google検索口コミその他Webサイト\n \nご関心があること、習得したいこと（複数可）\n \n自然治癒力アップ集中力アップダイエット体質改善ストレス緩和丹田強化呼吸法瞑想法リラックス運動不足解消姿勢がよくなりたいその他（備考欄にご記入ください）\n \n備考欄\n \n\n \n\n\n \n\n Δ \n\n\n\n株式会社DAHN WORLD JAPAN　ダンワールドジャパン
URL:https://ilchibrainyoga-rokko.com/event/rokkomichi-58/
LOCATION:イルチブレインヨガ六甲道スタジオ\, 兵庫県神戸市灘区森後町２丁目１−９　グランディアみなと神戸六甲館 6階\, 6570028\, 日本
ATTACH;FMTTYPE=image/jpeg:https://ilchibrainyoga-rokko.com/wp-content/uploads/2025/02/瞑想5人　新モデル.jpg
END:VEVENT
BEGIN:VEVENT
DTSTART;TZID=Asia/Tokyo:20250520T190000
DTEND;TZID=Asia/Tokyo:20250520T203000
DTSTAMP:20260421T040434
CREATED:20250424T050310Z
LAST-MODIFIED:20250424T050310Z
UID:1781-1747767600-1747773000@ilchibrainyoga-rokko.com
SUMMARY:【六甲道】腸と脳のヨガ体験
DESCRIPTION:腸は体と心の状態を映す鏡で脳と密接なつながりを持っています。\n腸の重要性について、ここ数年メディアなどでもよく取り上げられています。第二の脳とも言われていますね。\n脳腸活性トレーニングで腸が強く柔軟になると、心も思考も強く柔軟になります。体と心の変化を体感してみてください♪\n体がかたくても大丈夫です♪老若男女OK♪\n首肩こり、腰痛、関節痛、冷え性、便秘、下痢、ダイエット、運動不足解消その他色々お越しくださいませ!\n又、ご希望に応じて、必要な運動メニューや\n生活習慣など、心身を整えるための全てを\nカスタマイズもできます🌟お気軽にご参加くださいませ😊 \n開催日：\n5月20日（火）\n19:00〜20:30 \n体験会日程がご都合が合わない方は、できるだけ都合を合わすようにさせていただきますので、\nご希望日をこちらに教えてください^^ \n会場名：イルチブレインヨガ六甲道スタジオ\n神戸市灘区森後町２丁目１−９ グランディアみなと神戸六甲館 6階 \n参加費：1000円\nトレーナー：薪浦英実\n持ち物：簡単に動かせる服装\n▶体験会時間は カウンセリングなども含みます。\n問合せ：☎0788556261 \n\nLINEからのお申し込みはこちら⇒https://lin.ee/n9EJ7SR \n\n\n  \n\n\n\n\n\n \n体験ご希望日時\n		(必須)　※ご注意：月曜日は定休日です\n		\n \n—以下から選択してください—10111213141516171819時 —以下から選択してください—001020304050分 ～ のクラス\n \nお名前\n		 (必須)\n		\n \n\n \nメールアドレス\n		 (必須)\n		\n \n\n \nお電話番号（携帯可）\n		 (必須)\n		\n \n\n \nこちらのスタジオを何でお知りになりましたか？\n		 (必須)\n		\n \nチラシ看板書籍雑誌紹介Yahoo検索Google検索口コミその他Webサイト\n \nご関心があること、習得したいこと（複数可）\n \n自然治癒力アップ集中力アップダイエット体質改善ストレス緩和丹田強化呼吸法瞑想法リラックス運動不足解消姿勢がよくなりたいその他（備考欄にご記入ください）\n \n備考欄\n \n\n \n\n\n \n\n Δ \n\n\n\n株式会社DAHN WORLD JAPAN　ダンワールドジャパン
URL:https://ilchibrainyoga-rokko.com/event/rokkomichi-59/
LOCATION:イルチブレインヨガ六甲道スタジオ\, 兵庫県神戸市灘区森後町２丁目１−９　グランディアみなと神戸六甲館 6階\, 6570028\, 日本
ATTACH;FMTTYPE=image/jpeg:https://ilchibrainyoga-rokko.com/wp-content/uploads/2025/02/瞑想5人　新モデル.jpg
END:VEVENT
END:VCALENDAR